BEGIN:VCALENDAR
VERSION:2.0
PRODID:-//Yescapa.es Events Calendar//www.yescapa.es//
X-WR-CALDESC:Periodes d'indisponibilités de l'annonce 5763MTR
X-WR-CALNAME:Annonce 5763MTR
BEGIN:VEVENT
SUMMARY:Réservation Yescapa #2356336
DTSTART;TZID=Europe/Madrid:20241112T090000
DTEND;TZID=Europe/Madrid:20241119T200000
DTSTAMP:20241102T194752Z
UID:16639309@www.yescapa.es
DESCRIPTION:Réservation de Joan Coll hipola
END:VEVENT
BEGIN:VEVENT
SUMMARY:Indisponible : Otro
DTSTART;VALUE=DATE:20250813
DTEND;VALUE=DATE:20250820
DTSTAMP:20250801T212630Z
UID:21391006@www.yescapa.es
END:VEVENT
BEGIN:VEVENT
SUMMARY:Indisponible : Otro
DTSTART;VALUE=DATE:20250812
DTEND;VALUE=DATE:20250813
DTSTAMP:20250801T212733Z
UID:21391009@www.yescapa.es
END:VEVENT
BEGIN:VEVENT
SUMMARY:Indisponible : Otro
DTSTART;VALUE=DATE:20250808
DTEND;VALUE=DATE:20250812
DTSTAMP:20250801T212834Z
UID:21391011@www.yescapa.es
END:VEVENT
BEGIN:VEVENT
SUMMARY:Indisponible : Otro
DTSTART;VALUE=DATE:20250825
DTEND;VALUE=DATE:20250916
DTSTAMP:20250802T155655Z
UID:21400355@www.yescapa.es
END:VEVENT
BEGIN:VEVENT
SUMMARY:Réservation Yescapa #2980363
DTSTART;TZID=Europe/Madrid:20251223T090000
DTEND;TZID=Europe/Madrid:20260102T200000
DTSTAMP:20251114T194813Z
UID:23533505@www.yescapa.es
DESCRIPTION:Réservation de Christian Ivars Morató
END:VEVENT
BEGIN:VEVENT
SUMMARY:Réservation Yescapa #2923279
DTSTART;TZID=Europe/Madrid:20250918T140000
DTEND;TZID=Europe/Madrid:20250922T120000
DTSTAMP:20250914T140332Z
UID:22276440@www.yescapa.es
DESCRIPTION:Réservation de marina trullas
END:VEVENT
BEGIN:VEVENT
SUMMARY:Indisponible : Alquilar fuera de Yescapa
DTSTART;VALUE=DATE:20251025
DTEND;VALUE=DATE:20251027
DTSTAMP:20251021T170033Z
UID:23059980@www.yescapa.es
END:VEVENT
BEGIN:VEVENT
SUMMARY:Indisponible : Alquilar fuera de Yescapa
DTSTART;VALUE=DATE:20251006
DTEND;VALUE=DATE:20251015
DTSTAMP:20250922T155501Z
UID:22456569@www.yescapa.es
END:VEVENT
BEGIN:VEVENT
SUMMARY:Indisponible : Alquilar fuera de Yescapa
DTSTART;VALUE=DATE:20251031
DTEND;VALUE=DATE:20251101
DTSTAMP:20251028T120814Z
UID:23191400@www.yescapa.es
END:VEVENT
BEGIN:VEVENT
SUMMARY:Indisponible : Alquilar fuera de Yescapa
DTSTART;VALUE=DATE:20251030
DTEND;VALUE=DATE:20251031
DTSTAMP:20251028T120820Z
UID:23191401@www.yescapa.es
END:VEVENT
BEGIN:VEVENT
SUMMARY:Indisponible : Alquilar fuera de Yescapa
DTSTART;VALUE=DATE:20251029
DTEND;VALUE=DATE:20251030
DTSTAMP:20251028T120827Z
UID:23191402@www.yescapa.es
END:VEVENT
BEGIN:VEVENT
SUMMARY:Indisponible : Alquilar fuera de Yescapa
DTSTART;VALUE=DATE:20251101
DTEND;VALUE=DATE:20251102
DTSTAMP:20251028T120842Z
UID:23191405@www.yescapa.es
END:VEVENT
END:VCALENDAR
